BEGIN:VCALENDAR
VERSION:2.0
PRODID:-//PHD in Industrial Engineering - ECPv6.15.20//NONSGML v1.0//EN
CALSCALE:GREGORIAN
METHOD:PUBLISH
X-ORIGINAL-URL:https://academics.dii.unipd.it/phd
X-WR-CALDESC:Events for PHD in Industrial Engineering
REFRESH-INTERVAL;VALUE=DURATION:PT1H
X-Robots-Tag:noindex
X-PUBLISHED-TTL:PT1H
BEGIN:VTIMEZONE
TZID:UTC
BEGIN:STANDARD
TZOFFSETFROM:+0000
TZOFFSETTO:+0000
TZNAME:UTC
DTSTART:20250101T000000
END:STANDARD
END:VTIMEZONE
BEGIN:VEVENT
DTSTART;TZID=UTC:20260916T080000
DTEND;TZID=UTC:20260916T170000
DTSTAMP:20260420T065931
CREATED:20260413T151034Z
LAST-MODIFIED:20260413T151133Z
UID:3263-1789545600-1789578000@academics.dii.unipd.it
SUMMARY:Principles and Applications of Life Cycle Assessment of Energy Systems
DESCRIPTION:Course contentsThis course provides an advanced exploration of Life Cycle Assessment (LCA) methodologies\, following the international standards ISO 14040 and 14044. The programme focuses on the environmental evaluation of energy systems\, providing doctoral candidates with the analytical tools to monitor and improve the sustainability performance of products and services throughout their entire life cycle. \nThe curriculum covers the four fundamental stages of LCA: goal and scope definition\, inventory analysis\, impact assessment\, and interpretation. Students will examine the most widely used models and updated databases for inventory analysis\, specifically focusing on the proper evaluation of reference systems for electricity and heat production. The course also explores the role of LCA within the context of environmental labeling systems. Through several case studies\, the programme highlights the critical importance of defining functional units\, system boundaries\, and data quality requirements. Significant attention is given to allocation methods and the selection of appropriate impact categories. The course concludes with a hands-on module using SimaPro\, a professional tool for monitoring sustainability performance. Students will apply the software to conduct a complete Life Cycle Analysis of a Renewable Plant\, bridging theoretical knowledge with practical industrial application. \nLearning goalsBy the conclusion of the course\, PhD students will master the fundamental knowledge and principles required to conduct a rigorous Life Cycle Assessment. Participants will develop advanced capabilities to perform basic LCA analyses\, interpreting complex environmental data to support sustainable decision-making. Furthermore\, students will gain proficiency in using professional sustainability tools to assess energy systems and renewable plants. \nSuggested readings\nStoppato A.\, Benato A.\, De Vanna F. (2021)\, “Environmental impact of energy systems integrated with electrochemical accumulators and powered by renewable energy sources in a life-cycle perspective”\, Applied Sciences\, Volume 11\, Issue 62.\nStoppato A. and Benato A. (2020)\, “Life cycle assessment of a commercially available organic Rankine cycle unit coupled with a biomass boiler”\, Energies 13(7)\,1835.\nCavallin Toscani A.\, Stoppato A.\, Benato A. (2019)\, “LCA of a concert: Evaluation of the Carbon footprint and of Cumulative energy demand”\, ECOS 2019 – Proceedings of the 32nd International Conference on Efficiency\, Cost\, Optimization\, Simulation and Environmental Impact of Energy Systems pp. 3203-3213.\nFantinato\, D.\, Stoppato A.\, Benato A. (2019)\, “LCA analysis of a low-energy residential building”\, ECOS 2019 – Proceedings of the 32nd International Conference on Efficiency\, Cost\, Optimization\, Simulation and Environmental Impact of Energy Systems pp. 3153-3165.\nStougie\, L.\, Giustozzi\, N.\, van der Kooi\, H.\, Stoppato\, A. (2018)\, “Environmental\, economic and exergetic sustainability assessment of power generation from fossil and renewable energy sources”\, International Journal of Energy Research 42(9)\, pp. 2916-2926.\nStoppato A. (2008)\, “Life cycle assessment of photovoltaic electricity generation”\, Energy 33(2)\, pp. 224-232.
URL:https://academics.dii.unipd.it/phd/event/principles-and-applications-of-life-cycle-assessment-of-energy-systems/
LOCATION:On-line
CATEGORIES:Event
ATTACH;FMTTYPE=image/jpeg:https://academics.dii.unipd.it/phd/wp-content/uploads/sites/58/2026/04/CDII_LCA-scaled.jpeg
ORGANIZER;CN="PhD Course in Industrial Engineering":MAILTO:dottorato.dii@unipd.it
END:VEVENT
END:VCALENDAR